BEGIN:VCALENDAR
VERSION:1.0
PRODID:Faculty of Science and Engineering - Research
BEGIN:VEVENT
SUMMARY:Shiling Liang (Dresden)
DESCRIPTION;ENCODING=QUOTED-PRINTABLE: 
LOCATION:MB-503
DTSTART:20261008T130000
DTEND:20261008T140000
END:VEVENT
END:VCALENDAR
