BEGIN:VCALENDAR
VERSION:1.0
PRODID:Faculty of Science and Engineering - Research
BEGIN:VEVENT
SUMMARY:Dr Ilham El Atmani - Neutrino–nucleus interactions and systematic uncertainties in next-generation oscillation experiments
DESCRIPTION;ENCODING=QUOTED-PRINTABLE: The next generation of long baseline experiments, DUNE and Hyper-Kamiokande, aim to measure CP violation and mass ordering with high precision. However, the sensitivity of these experiments is currently limited by systematic uncertainties related to interactions between neutrinos and nuclei. In this talk, we will examine the impact of nuclear effects, in particular multi-nucleon correlations (2p2h) and final-state Interactions (FSI), on energy reconstruction and parameter extraction. We will discuss the limitations of current event generators, the role of LArTPC – liquid argon time projection chambers – data from the short baseline neutrino (SBN) program, and the need for data-driven mitigation techniques, such as DUNE-PRISM and electron scattering constraints.=0D=0A=
=0D=0A=
=0D=0A=
Online only event - no refreshments or in-person room provided
LOCATION:Online only
DTSTART:20260422T140000
DTEND:20260422T150000
END:VEVENT
END:VCALENDAR
