BEGIN:VCALENDAR
VERSION:1.0
PRODID:Faculty of Science and Engineering - Research
BEGIN:VEVENT
SUMMARY:Facundo Rost (Scuola Normale Superiore) 
DESCRIPTION;ENCODING=QUOTED-PRINTABLE: TBC
LOCATION:Room 610, G.O. Jones Building 
DTSTART:20260514T140000
DTEND:20260514T150000
END:VEVENT
END:VCALENDAR
