BEGIN:VCALENDAR
VERSION:1.0
PRODID:Faculty of Science and Engineering - Research
BEGIN:VEVENT
SUMMARY:Zizang Qiu (Edinburgh) 
DESCRIPTION;ENCODING=QUOTED-PRINTABLE: TBC
LOCATION:Room 610, G.O. Jones Building 
DTSTART:20260507T140000
DTEND:20260507T150000
END:VEVENT
END:VCALENDAR
