BEGIN:VCALENDAR
VERSION:1.0
PRODID:-//Microsoft Corporation//Outlook 11.0 MIMEDIR//EN
BEGIN:VEVENT
DTSTART;VALUE=DATE:20260520T000000Z
DTEND;VALUE=DATE:20260520T000000Z
LOCATION:MB-503
TRANSP:1
UID:5309
DESCRIPTION;ENCODING=QUOTED-PRINTABLE:  =0D=0A=
=0D=0A=
1pm: Mélodie Andrieu (Université Littoral)=0D=0A=
=0D=0A=
2pm: José Alves (Universidade do Porto)=0D=0A=
=0D=0A=
3.30pm: Selim Ghazouani (University College London)=0D=0A=
=0D=0A=
4.30pm: Zhiyuan Zhang (Imperial College London)=0D=0A=
=0D=0A=
=0D=0A=
 =0D=0A=
=0D=0A=
One Day Ergodic Theory Meeting is a "wandering" seminar series supported by an LMS grant and organised by 15 UK universities: Birmingham University, Bristol University, Brunel University, Durham University, Exeter University, Glasgow University, Imperial College London, Loughborough University, Manchester University, The Open University, Queen Mary University of London, Surrey University, St. Andrews University, University College London and Warwick University.=0D=0A=
=0D=0A=
The May 2026 Ergodic Theory Meeting will be hosted by the School of Mathematical Sciences at Queen Mary University of London.=0D=0A=
=0D=0A=
 =0D=0A=
=0D=0A=
 =0D=0A=
=0D=0A=
 
SUMMARY:One-Day Ergodic Theory Meeting
PRIORITY:3
END:VEVENT
END:VCALENDAR
