BEGIN:VCALENDAR
VERSION:1.0
PRODID:Faculty of Science and Engineering - Research
BEGIN:VEVENT
SUMMARY:Gabriel Wallin (Lancaster): TBC
DESCRIPTION;ENCODING=QUOTED-PRINTABLE: TBC
LOCATION:Hybrid: MB503, SMS, QMUL, or via the Teams link below
DTSTART:20260528T140000
DTEND:20260528T150000
END:VEVENT
END:VCALENDAR
