BEGIN:VCALENDAR
VERSION:1.0
PRODID:Faculty of Science and Engineering - Research
BEGIN:VEVENT
SUMMARY:Centre colloquium - Claudia de Rham (Imperial College)
DESCRIPTION;ENCODING=QUOTED-PRINTABLE: 
LOCATION:Skeels Lecture Theatre 
DTSTART:20260603T140000
DTEND:20260603T153000
END:VEVENT
END:VCALENDAR
