BEGIN:VCALENDAR
VERSION:1.0
PRODID:Faculty of Science and Engineering - Research
BEGIN:VEVENT
SUMMARY:Dr Andrea Knue - Toponium

DESCRIPTION;ENCODING=QUOTED-PRINTABLE: 13:30-14:00 - In person refreshments=0D=0A=
=0D=0A=
14:00-15:00 - seminar
LOCATION:Room 610, GO Jones
DTSTART:20260527T133000
DTEND:20260527T150000
END:VEVENT
END:VCALENDAR
